Workbook

Sheet 入力シート
B1: 分析依頼書(アスベスト定性･定量)入力方法 | E1: 連絡先： | F1: 株式会社環境テクノ 技術サポート室 大谷、鈴木
B2: ①1～20の 記入欄に記入例を参考にご記入を致します。 | F2: TEL：0493-39-5181 FAX：0493-39-5191
B3: ②ご記入欄で不明な箇所には”―”とご記入お願いします。 | F3: y-ootani@kankyoutekuno.co.jp
B4: ③21～30のNO.1～NO.10にご依頼内容の情報(建材名)を入力ください。 | F4: または
B5: ④検体数が10検体を超える場合は事前連絡をお願いします。 | F5: k-suzuki@kankyoutekuno.co.jp
B6: ⑤分析依頼書入力シート入力後、こちらのエクセルファイルを上記アドレスに送信してください。
B7: 注1 通常速報納期は到着後10検体までは5営業日以内に連絡いたします。報告書は速報後5営業日以内に送付いたします。
B8: 注2 当試験所は、本試験において顧客から持ち込まれた試料ついての分析の結果は、入手した試料の範囲に限定させていただきます。
B9: 注3 当試験所は、本試験活動において得られた情報を適切に取り扱い、試験後も機密を保持することを確約します。
B10: 注4 当試験所は、本試験において顧客から持ち込まれた試料ついて、分析終了後に試料を返却いたします。
B11: 注5 必要な情報が揃っている場合は、ISO17025認定シンボルマークを付与することができます。
C14: ご記入欄 | D14: 記入例
A15: 1 | B15: 御依頼日 | D15: 45019
A16: 2 | B16: 御依頼者（貴社名） | D16: 株式会社＊＊＊＊
A17: 3 | B17: 住所 | D17: ●●県■■市▲▲111番地
A18: 4 | B18: 連絡先 | D18: 電話番号、メールアドレス等
A19: 5 | B19: 所属 | D19: ◎◎課
A20: 6 | B20: 御担当者 | D20: 環境太郎
A21: 7 | B21: 報告書宛名 | D21: 株式会社△△△、同上等
A22: 8 | B22: 報告書宛名とした会社等の住所 | D22: ●●県■■市▲▲111番地、同上等
A23: 9 | B23: 発行部数 | D23: 2
A24: 10 | B24: 件名(業務名) | D24: ○○改修工事
A25: 11 | B25: 建築物名称又は住所 | D25: ●●県■■市▲▲111番地
A26: 12 | B26: 棟名称 | D26: 事務棟
A27: 13 | B27: 竣工年月（新築時） | D27: 昭和60年、1985年
A28: 14 | B28: 採取者 | D28: 株式会社＊＊＊＊ 環境太郎
A29: 15 | B29: 採取年月日 | D29: 45016
A30: 16 | B30: 速報納期 | D30: 45026
A31: 17 | B31: 報告書納期 | D31: 45033
A32: 18 | B32: 分析方法 (選択してください） | D32: 定性分析 JISA1481-1
A33: 19 | B33: ISO17025認定シンボル付与の必要性(選択してください） | D33: 無
A34: 20 | B34: 公定法以外で要求される仕様及び要求基準の有無 | D34: 無
B36: 建材名 | C36: ご記入欄 | D36: 記入例
B37: No.1
A38: 21 | B38: 棟・階 | D38: 事務棟1階
B39: 採取場所又は部屋名 | D39: 外部
B40: 採取部位 | D40: 外壁
B41: 建材名 | D41: 吹付タイル
B42: 形状 | D42: 塗材
B43: 備考 | D43: ―
B44: No.2
A45: 22 | B45: 棟・階 | D45: 1階
B46: 採取場所又は部屋名 | D46: 事務室
B47: 採取部位 | D47: 天井
B48: 建材名 | D48: ケイカル板
B49: 形状 | D49: 成形品
B50: 備考 | D50: ―
B51: No.3
A52: 23 | B52: 棟・階 | D52: 1階
B53: 採取場所又は部屋名 | D53: 事務室
B54: 採取部位 | D54: 壁
B55: 建材名 | D55: 石膏ボード
B56: 形状 | D56: 成形品
B57: 備考 | D57: ―
B58: No.4
A59: 24 | B59: 棟・階 | D59: 1階
B60: 採取場所又は部屋名 | D60: 事務室
B61: 採取部位 | D61: 床
B62: 建材名 | D62: Pタイル
B63: 形状 | D63: 成形品
B64: 備考 | D64: ―
B65: No.5
A66: 25 | B66: 棟・階 | D66: 1階
B67: 採取場所又は部屋名 | D67: 事務室天井裏
B68: 採取部位 | D68: 梁
B69: 建材名 | D69: 吹付材
B70: 形状 | D70: 綿状
B71: 備考 | D71: ―
B72: No.6
A73: 26 | B73: 棟・階 | D73: 事務棟1階
B74: 採取場所又は部屋名 | D74: 外部
B75: 採取部位 | D75: 外壁
B76: 建材名 | D76: 吹付タイル
B77: 形状 | D77: 塗材
B78: 備考 | D78: ―
B79: No.7
A80: 27 | B80: 棟・階 | D80: 1階
B81: 採取場所又は部屋名 | D81: 事務室
B82: 採取部位 | D82: 天井
B83: 建材名 | D83: ケイカル板
B84: 形状 | D84: 成形品
B85: 備考 | D85: ―
B86: No.8
A87: 28 | B87: 棟・階 | D87: 1階
B88: 採取場所又は部屋名 | D88: 事務室
B89: 採取部位 | D89: 壁
B90: 建材名 | D90: 石膏ボード
B91: 形状 | D91: 成形品
B92: 備考 | D92: ―
B93: No.9
A94: 29 | B94: 棟・階 | D94: 1階
B95: 採取場所又は部屋名 | D95: 事務室
B96: 採取部位 | D96: 床
B97: 建材名 | D97: Pタイル
B98: 形状 | D98: 成形品
B99: 備考 | D99: ―
B100: No.10
A101: 30 | B101: 棟・階 | D101: 1階
B102: 採取場所又は部屋名 | D102: 事務室天井裏
B103: 採取部位 | D103: 梁
...

Sheet 採取方法
C1: アスベスト定性分析 試料採取試料採取方法
B3: 1.使用道具等
C4: ・保護具 | D4: 呼吸用保護具
D5: 手袋
D6: 作業着
D7: 保護メガネ
D8: 保護帽（ヘルメット）
C10: ・使用用具 | D10: 湿潤用霧吹き（水）
D11: 採取道具（スクレーパ、カッター等）
D12: 金づち
D13: チャック付ビニール袋
B15: 2.試料採取
C16: ・吹付材、保温材 | E16: ①採取箇所の湿潤化（霧吹き）
E17: ②スクレーパー等で表層から躯体の界面まで採取する。
E18: （1箇所あたり10ｃｍ3程度の試料を3箇所以上から採取して1検体とする）
C20: ・成形板 | E20: ①採取箇所の湿潤化（霧吹き）
E21: ②カッター等で、採取する。
E22: （1箇所あたり5×5ｃｍ程度の試料を3箇所以上から採取して1検体とする）
C24: ・仕上塗材 | E24: ①採取箇所の湿潤化（霧吹き）
E25: ②スクレーパー等で表層から下地調整材まで採取する。
E26: （1箇所あたり5×5ｃｍ程度の試料を3箇所以上から採取して1検体とする）
C28: ・採取試料の梱包 | E28: ①試料は1箇所ごとにチャック付ビニール袋に入れ、試料の漏洩がないように密閉する。採取した3箇所分の試料をまとめて、1つのチャック付ビニール袋に入れ、採取場所等の記入をする。
E29: ②分析依頼書に必要事項を記入し、試料と一緒に下記住所まで送付してください。
B31: 3.採取箇所の飛散防止
C32: 採取箇所からのアスベストの飛散が考えられるため、カラースプレー等で採取箇所飛散防止をする
B35: 4.試料送付先
C36: 郵便番号355-0008 | E36: 埼玉県東松山市大字大谷3068-70
C37: 株式会社環境テクノ 技術サポート室 大谷、鈴木
C38: TEL：0493-39-5181 FAX：0493-39-5191
C39: y-ootani@kankyoutekuno.co.jp又はk-suzuki@kankyoutekuno.co.jp

Sheet 分析依頼書
A1: 分析依頼書(アスベスト定性･定量) | I1: 株式会社環境テクノ 埼玉県東松山市大字大谷3068-70 TEL 0493-39-5181 FAX 0493-39-5191
A2: 御依頼日 | C2: =IF(入力シート!C15="","",入力シート!C15)
A3: 御依頼者（貴社名） | D3: =IF(入力シート!C16="","",入力シート!C16) | M3: 様
A4: 住所 | D4: =IF(入力シート!C17="","",入力シート!C17) | I4: 連絡先 | J4: =IF(入力シート!C18="","",入力シート!C18)
A5: 所属 | D5: =IF(入力シート!C19="","",入力シート!C19) | H5: 御担当者名 | J5: =IF(入力シート!C20="","",入力シート!C20) | M5: 様
A7: 報告書宛名 | D7: =IF(入力シート!C21="","",入力シート!C21) | H7: 報告書 発行部数 | J7: =IF(入力シート!C23="","",入力シート!C23) | M7: 部
A8: 報告先の連絡先（住所等） | D8: =IF(入力シート!C22="","",入力シート!C22)
A9: 件名 | D9: =IF(入力シート!C24="","",入力シート!C24)
A10: 建築物名称又は住所 | D10: =IF(入力シート!C25="","",入力シート!C25)
A11: 棟名称 | D11: =IF(入力シート!C26="","",入力シート!C26) | H11: 竣工年月（新築時） | J11: =IF(入力シート!C27="","",入力シート!C27)
A12: 採取者 | D12: =IF(入力シート!C28="","",入力シート!C28) | H12: 採取年月日 | J12: =IF(入力シート!C29="","",入力シート!C29)
A13: 分析方法 | D13: =IF(入力シート!C32="","",入力シート!C32)
A14: 希望報告書納期※1 | D14: =IF(入力シート!C31="","",入力シート!C31) | H14: 希望速報納期※1 | J14: =IF(入力シート!C30="","",入力シート!C30)
A15: ＊通常速報納期は到着後10検体までは5営業日以内に連絡いたします。報告書は速報後5営業日以内に送付いたします
A17: No. | B17: 棟・階 | C17: 採取場所 又は部屋名 | E17: 採取部位 | G17: 建材名 | J17: 形状 | L17: 備考
A18: 例： | B18: 1階等 | C18: 機械室等 | E18: 天井、壁、梁等 | G18: 吹付材、岩綿吸音板、石膏ボード等 | J18: 綿状、成形板、板状等
A19: 1 | B19: =IF(入力シート!C38="","",入力シート!C38) | C19: =IF(入力シート!C39="","",入力シート!C39) | E19: =IF(入力シート!C40="","",入力シート!C40) | G19: =IF(入力シート!C41="","",入力シート!C41) | J19: =IF(入力シート!C42="","",入力シート!C42) | L19: =IF(入力シート!C43="","",入力シート!C43)
A20: =A19+1 -> 2 | B20: =IF(入力シート!C45="","",入力シート!C45) | C20: =IF(入力シート!C46="","",入力シート!C46) | E20: =IF(入力シート!C47="","",入力シート!C47) | G20: =IF(入力シート!C48="","",入力シート!C48) | J20: =IF(入力シート!C49="","",入力シート!C49) | L20: =IF(入力シート!C50="","",入力シート!C50)
A21: =A20+1 -> 3 | B21: =IF(入力シート!C52="","",入力シート!C52) | C21: =IF(入力シート!C53="","",入力シート!C53) | E21: =IF(入力シート!C54="","",入力シート!C54) | G21: =IF(入力シート!C55="","",入力シート!C55) | J21: =IF(入力シート!C56="","",入力シート!C56) | L21: =IF(入力シート!C57="","",入力シート!C57)
A22: =A21+1 -> 4 | B22: =IF(入力シート!C59="","",入力シート!C59) | C22: =IF(入力シート!C60="","",入力シート!C60) | E22: =IF(入力シート!C61="","",入力シート!C61) | G22: =IF(入力シート!C62="","",入力シート!C62) | J22: =IF(入力シート!C63="","",入力シート!C63) | L22: =IF(入力シート!C64="","",入力シート!C64)
A23: =A22+1 -> 5 | B23: =IF(入力シート!C66="","",入力シート!C66) | C23: =IF(入力シート!C67="","",入力シート!C67) | E23: =IF(入力シート!C68="","",入力シート!C68) | G23: =IF(入力シート!C69="","",入力シート!C69) | J23: =IF(入力シート!C70="","",入力シート!C70) | L23: =IF(入力シート!C71="","",入力シート!C71)
A24: =A23+1 -> 6 | B24: =IF(入力シート!C73="","",入力シート!C73) | C24: =IF(入力シート!C74="","",入力シート!C74) | E24: =IF(入力シート!C75="","",入力シート!C75) | G24: =IF(入力シート!C76="","",入力シート!C76) | J24: =IF(入力シート!C77="","",入力シート!C77) | L24: =IF(入力シート!C78="","",入力シート!C78)
A25: =A24+1 -> 7 | B25: =IF(入力シート!C80="","",入力シート!C80) | C25: =IF(入力シート!C81="","",入力シート!C81) | E25: =IF(入力シート!C82="","",入力シート!C82) | G25: =IF(入力シート!C83="","",入力シート!C83) | J25: =IF(入力シート!C84="","",入力シート!C84) | L25: =IF(入力シート!C85="","",入力シート!C85)
A26: =A25+1 -> 8 | B26: =IF(入力シート!C87="","",入力シート!C87) | C26: =IF(入力シート!C88="","",入力シート!C88) | E26: =IF(入力シート!C89="","",入力シート!C89) | G26: =IF(入力シート!C90="","",入力シート!C90) | J26: =IF(入力シート!C91="","",入力シート!C91) | L26: =IF(入力シート!C92="","",入力シート!C92)
A27: =A26+1 -> 9 | B27: =IF(入力シート!C94="","",入力シート!C94) | C27: =IF(入力シート!C95="","",入力シート!C95) | E27: =IF(入力シート!C96="","",入力シート!C96) | G27: =IF(入力シート!C97="","",入力シート!C97) | J27: =IF(入力シート!C98="","",入力シート!C98) | L27: =IF(入力シート!C99="","",入力シート!C99)
A28: =A27+1 -> 10 | B28: =IF(入力シート!C101="","",入力シート!C101) | C28: =IF(入力シート!C102="","",入力シート!C102) | E28: =IF(入力シート!C103="","",入力シート!C103) | G28: =IF(入力シート!C104="","",入力シート!C104) | J28: =IF(入力シート!C105="","",入力シート!C105) | L28: =IF(入力シート!C106="","",入力シート!C106)
A29: ISO17025認定シンボル付与の必要性（有無のどちらかを記入してください）※2 | K29: =IF(入力シート!C33="","",入力シート!C33)
A30: =入力シート!B34 -> 公定法以外で要求される仕様及び要求基準の有無
A31: =IF(入力シート!C34="","",入力シート!C34)
A32: 備考欄
A35: ※2分析依頼書の記入欄に空欄がありますと、有とされてもシンボルマークの付記はできません。
A36: 注1「当試験所は、本試験において顧客から持ち込まれた試料ついての分析の結果は、入手した試料の範囲に限定させていただきます。」
A37: 注2「当試験所は、本試験活動において得られた情報を適切に取り扱い、試験後も機密を保持することを確約します。」
A38: 注3「当試験所は、本試験において顧客から持ち込まれた試料ついて、分析終了後に試料を返却いたします。」
G39: 受付番号 | J39: 受付日 | L39: 受付担当
